BEGIN:VCALENDAR
VERSION:2.0
PRODID:-//Punta Gorda Hotels | The Wyvern Luxury Hotel | Florida - ECPv6.15.20//NONSGML v1.0//EN
CALSCALE:GREGORIAN
METHOD:PUBLISH
X-WR-CALNAME:Punta Gorda Hotels | The Wyvern Luxury Hotel | Florida
X-ORIGINAL-URL:https://www.thewyvernhotel.com
X-WR-CALDESC:Events for Punta Gorda Hotels | The Wyvern Luxury Hotel | Florida
REFRESH-INTERVAL;VALUE=DURATION:PT1H
X-Robots-Tag:noindex
X-PUBLISHED-TTL:PT1H
BEGIN:VTIMEZONE
TZID:America/New_York
BEGIN:DAYLIGHT
TZOFFSETFROM:-0500
TZOFFSETTO:-0400
TZNAME:EDT
DTSTART:20250309T070000
END:DAYLIGHT
BEGIN:STANDARD
TZOFFSETFROM:-0400
TZOFFSETTO:-0500
TZNAME:EST
DTSTART:20251102T060000
END:STANDARD
BEGIN:DAYLIGHT
TZOFFSETFROM:-0500
TZOFFSETTO:-0400
TZNAME:EDT
DTSTART:20260308T070000
END:DAYLIGHT
BEGIN:STANDARD
TZOFFSETFROM:-0400
TZOFFSETTO:-0500
TZNAME:EST
DTSTART:20261101T060000
END:STANDARD
BEGIN:DAYLIGHT
TZOFFSETFROM:-0500
TZOFFSETTO:-0400
TZNAME:EDT
DTSTART:20270314T070000
END:DAYLIGHT
BEGIN:STANDARD
TZOFFSETFROM:-0400
TZOFFSETTO:-0500
TZNAME:EST
DTSTART:20271107T060000
END:STANDARD
END:VTIMEZONE
BEGIN:VEVENT
DTSTART;TZID=America/New_York:20260220T110000
DTEND;TZID=America/New_York:20260220T123000
DTSTAMP:20260422T050628
CREATED:20260219T205710Z
LAST-MODIFIED:20260219T214003Z
UID:10000040-1771585200-1771590600@www.thewyvernhotel.com
SUMMARY:Ribbon Cutting - Laishley Park Splash Pad
DESCRIPTION:The moment we’ve all been waiting for is here — the Splash Pad at Laishley Park is officially opening! 💦Join the Punta Gorda Chamber of Commerce as we celebrate this fun new addition to our beautiful waterfront community.📅 February 20th⏰ 11:00 AM📍 Laishley ParkNesbit St.Punta Gorda\, FL 33950Bring the family\, invite your friends\, and get ready to make a splash! 🌊
URL:https://www.thewyvernhotel.com/event/ribbon-cutting-laishley-park-splash-pad/
LOCATION:Laishley Park\, 101 Nesbit St\, Punta Gorda\, FL\, United States
CATEGORIES:Events in Punta Gorda,Ribbon Cutting
ATTACH;FMTTYPE=image/png:https://www.thewyvernhotel.com/wp-content/uploads/2026/02/Grand-Opening-5-P9gTvy.png
GEO:26.937083;-82.048364
X-APPLE-STRUCTURED-LOCATION;VALUE=URI;X-ADDRESS=Laishley Park 101 Nesbit St Punta Gorda FL United States;X-APPLE-RADIUS=500;X-TITLE=101 Nesbit St:geo:-82.048364,26.937083
END:VEVENT
BEGIN:VEVENT
DTSTART;TZID=America/New_York:20260223T100000
DTEND;TZID=America/New_York:20260223T113000
DTSTAMP:20260422T050628
CREATED:20260219T205710Z
LAST-MODIFIED:20260222T221009Z
UID:10000041-1771840800-1771846200@www.thewyvernhotel.com
SUMMARY:Built to Last: What Winning Restaurants Do Differently - Ed Rensi
DESCRIPTION:PURCHASE TICKETS BELOW\nExperience One of the Most Influential Voices in US Business \nThe Punta Gorda Chamber of Commerce is thrilled to bring an extraordinary\, cannot-miss opportunity to our community in February 2026. An event featuring Ed Rensi\, who Forbes Magazine describes as a dynamic speaker known for energizing\, thought-provoking presentations drawing business leaders\, entrepreneurs\, and innovators. \nTitle of Program: “Built to Last:  What Winning Restaurants Do Differently.”\nFormat:  A conversation with restaurant expert\, Ed Rensi\, with ample time for audience questions.  \nDate / Time:  2/23/2026 @ 10 am–11:30 am\nVenue:  The Military Heritage Museum\, 900 W Marion Ave.\, Punta Gorda\, FL 33950\nPresented by:  SCORE Port Charlotte Chapter\nHosts: Punta Gorda Chamber of Commerce\, Economic Development Office of Charlotte County\, Military Heritage Museum\nSponsors:  Cheney Brothers; Punta Gorda Chamber of Commerce\nA special Thank You! to our host the Military Heritage Museum\nRegistration Fees:  to be determined  \nEd Rensi is one of the most influential leaders in modern foodservice history. Rising from grill man to CEO of McDonald’s USA\, he led the brand through a period of extraordinary growth; doubling U.S. sales to over $16 billion\, expanding restaurants from 6\,600 to 12\,000\, and redefining operational excellence across franchising. He spearheaded iconic innovations including Chicken McNuggets\, the McRib\, McChicken\, drive-thru expansion\, and the Extra Value Meal. Today\, Ed advises restaurant brands and small businesses on scalable growth\, people-centric leadership\, and profitable operations. He is a truly compelling voice in leadership\, growth\, and strategic thinking.
URL:https://www.thewyvernhotel.com/event/built-to-last-what-winning-restaurants-do-differently-ed-rensi/
LOCATION:Military Heritage Museum\, 900 W Marion Ave\, Punta Gorda\, FL\, United States
CATEGORIES:Events in Punta Gorda,Seminars
ATTACH;FMTTYPE=image/jpeg:https://www.thewyvernhotel.com/wp-content/uploads/2026/02/Built-to-last-e1770054373986-q327Uf.jpg
GEO:26.929002;-82.058923
X-APPLE-STRUCTURED-LOCATION;VALUE=URI;X-ADDRESS=Military Heritage Museum 900 W Marion Ave Punta Gorda FL United States;X-APPLE-RADIUS=500;X-TITLE=900 W Marion Ave:geo:-82.058923,26.929002
END:VEVENT
BEGIN:VEVENT
DTSTART;TZID=America/New_York:20260226T120000
DTEND;TZID=America/New_York:20260226T140000
DTSTAMP:20260422T050628
CREATED:20260219T205710Z
LAST-MODIFIED:20260225T221008Z
UID:10000042-1772107200-1772114400@www.thewyvernhotel.com
SUMMARY:Networking Luncheon: CoolToday Park
DESCRIPTION:This February\, we’re taking our networking luncheon out to the ballpark…and trust me\, this is one you won’t want to strike out on.\nJoin us for a very special Chamber Networking Luncheon at CoolToday Park\, hosted at the Tiki Bar and Grill inside the park during Spring Training season. While the Braves will be away that day\, here’s the real win: many of the star players stay behind\, meaning there’s a strong chance for some unique\, up-close interactions you simply won’t get anywhere else.\nWe don’t usually mix business and batting practice\, but when opportunity knocks like this\, you’ve gotta swing. This luncheon is shaping up to be a home run for networking\, fun\, and unforgettable experiences. Including some cool door prizes and maybe a raffle item courtesy of the Atlanta Braves!\nWhether you’re looking to make new connections\, strengthen existing relationships\, or just enjoy a fantastic afternoon at one of the coolest venues in our region\, this is your chance to round the bases with fellow Chamber members.
URL:https://www.thewyvernhotel.com/event/networking-luncheon-cooltoday-park/
LOCATION:CoolToday Park\, 4098 Westfield Ct\, Sarasota\, FL\, United States
CATEGORIES:Events in Punta Gorda,Luncheons
ATTACH;FMTTYPE=image/png:https://www.thewyvernhotel.com/wp-content/uploads/2026/02/Networking-Lunch-tl21xI.png
GEO:27.284529;-82.487676
X-APPLE-STRUCTURED-LOCATION;VALUE=URI;X-ADDRESS=CoolToday Park 4098 Westfield Ct Sarasota FL United States;X-APPLE-RADIUS=500;X-TITLE=4098 Westfield Ct:geo:-82.487676,27.284529
END:VEVENT
END:VCALENDAR