BEGIN:VCALENDAR
VERSION:2.0
PRODID:-//Punta Gorda Hotels | The Wyvern Luxury Hotel | Florida - ECPv6.15.20//NONSGML v1.0//EN
CALSCALE:GREGORIAN
METHOD:PUBLISH
X-WR-CALNAME:Punta Gorda Hotels | The Wyvern Luxury Hotel | Florida
X-ORIGINAL-URL:https://www.thewyvernhotel.com
X-WR-CALDESC:Events for Punta Gorda Hotels | The Wyvern Luxury Hotel | Florida
REFRESH-INTERVAL;VALUE=DURATION:PT1H
X-Robots-Tag:noindex
X-PUBLISHED-TTL:PT1H
BEGIN:VTIMEZONE
TZID:America/New_York
BEGIN:DAYLIGHT
TZOFFSETFROM:-0500
TZOFFSETTO:-0400
TZNAME:EDT
DTSTART:20250309T070000
END:DAYLIGHT
BEGIN:STANDARD
TZOFFSETFROM:-0400
TZOFFSETTO:-0500
TZNAME:EST
DTSTART:20251102T060000
END:STANDARD
BEGIN:DAYLIGHT
TZOFFSETFROM:-0500
TZOFFSETTO:-0400
TZNAME:EDT
DTSTART:20260308T070000
END:DAYLIGHT
BEGIN:STANDARD
TZOFFSETFROM:-0400
TZOFFSETTO:-0500
TZNAME:EST
DTSTART:20261101T060000
END:STANDARD
BEGIN:DAYLIGHT
TZOFFSETFROM:-0500
TZOFFSETTO:-0400
TZNAME:EDT
DTSTART:20270314T070000
END:DAYLIGHT
BEGIN:STANDARD
TZOFFSETFROM:-0400
TZOFFSETTO:-0500
TZNAME:EST
DTSTART:20271107T060000
END:STANDARD
END:VTIMEZONE
BEGIN:VEVENT
DTSTART;TZID=America/New_York:20260418T180000
DTEND;TZID=America/New_York:20260418T210000
DTSTAMP:20260424T043458
CREATED:20260302T231020Z
LAST-MODIFIED:20260415T184008Z
UID:10000055-1776535200-1776546000@www.thewyvernhotel.com
SUMMARY:2nd Annual Flip Flop Ball - TT's Tiki Bar
DESCRIPTION:Get ready for a tropical night full of fun\, music\, and island vibes! The Second Annual Flip Flop Ball is here! Get your tickets below and check out our sponsorship opportunities! Have your business featured at this wonderful event! See details below.
URL:https://www.thewyvernhotel.com/event/2nd-annual-flip-flop-ball-tts-tiki-bar/
LOCATION:TT’s Tiki Bar\, 33 Tamiami Trl\, Punta Gorda\, FL\, United States
CATEGORIES:Events in Punta Gorda,Featured Events
ATTACH;FMTTYPE=image/png:https://www.thewyvernhotel.com/wp-content/uploads/2026/03/2026-Flip-Flop-Ball-Flyer-and-Sponsorship-Forms.pdf-rev2-7XoSIH.png
GEO:26.938616;-82.052381
X-APPLE-STRUCTURED-LOCATION;VALUE=URI;X-ADDRESS=TT’s Tiki Bar 33 Tamiami Trl Punta Gorda FL United States;X-APPLE-RADIUS=500;X-TITLE=33 Tamiami Trl:geo:-82.052381,26.938616
END:VEVENT
BEGIN:VEVENT
DTSTART;TZID=America/New_York:20260418T180000
DTEND;TZID=America/New_York:20260418T210000
DTSTAMP:20260424T043458
CREATED:20260331T172507Z
LAST-MODIFIED:20260331T172507Z
UID:10000090-1776535200-1776546000@www.thewyvernhotel.com
SUMMARY:DJ Scott -Live at Perch360
DESCRIPTION:
URL:https://www.thewyvernhotel.com/event/dj-scott-live-at-perch360-2/
LOCATION:FL
CATEGORIES:Live Music
END:VEVENT
END:VCALENDAR