BEGIN:VCALENDAR
VERSION:2.0
PRODID:-//Punta Gorda Hotels | The Wyvern Luxury Hotel | Florida - ECPv6.15.20//NONSGML v1.0//EN
CALSCALE:GREGORIAN
METHOD:PUBLISH
X-WR-CALNAME:Punta Gorda Hotels | The Wyvern Luxury Hotel | Florida
X-ORIGINAL-URL:https://www.thewyvernhotel.com
X-WR-CALDESC:Events for Punta Gorda Hotels | The Wyvern Luxury Hotel | Florida
REFRESH-INTERVAL;VALUE=DURATION:PT1H
X-Robots-Tag:noindex
X-PUBLISHED-TTL:PT1H
BEGIN:VTIMEZONE
TZID:America/New_York
BEGIN:DAYLIGHT
TZOFFSETFROM:-0500
TZOFFSETTO:-0400
TZNAME:EDT
DTSTART:20250309T070000
END:DAYLIGHT
BEGIN:STANDARD
TZOFFSETFROM:-0400
TZOFFSETTO:-0500
TZNAME:EST
DTSTART:20251102T060000
END:STANDARD
BEGIN:DAYLIGHT
TZOFFSETFROM:-0500
TZOFFSETTO:-0400
TZNAME:EDT
DTSTART:20260308T070000
END:DAYLIGHT
BEGIN:STANDARD
TZOFFSETFROM:-0400
TZOFFSETTO:-0500
TZNAME:EST
DTSTART:20261101T060000
END:STANDARD
BEGIN:DAYLIGHT
TZOFFSETFROM:-0500
TZOFFSETTO:-0400
TZNAME:EDT
DTSTART:20270314T070000
END:DAYLIGHT
BEGIN:STANDARD
TZOFFSETFROM:-0400
TZOFFSETTO:-0500
TZNAME:EST
DTSTART:20271107T060000
END:STANDARD
END:VTIMEZONE
BEGIN:VEVENT
DTSTART;TZID=America/New_York:20260415T120000
DTEND;TZID=America/New_York:20260415T133000
DTSTAMP:20260422T050532
CREATED:20260325T174012Z
LAST-MODIFIED:20260413T174009Z
UID:10000077-1776254400-1776259800@www.thewyvernhotel.com
SUMMARY:Networking Luncheon: State of the City
DESCRIPTION:What’s next for Punta Gorda? Get it straight from the source.Join the Punta Gorda Chamber of Commerce for our April Luncheon – State of the City\, featuring Mayor Lux\, as she shares her vision\, priorities\, and plans for the future of our city. From growth and development to quality of life and economic opportunity\, this is your chance to hear what’s ahead and how it impacts our business community.\n👉 Reserve your seat today and be part of the State of the City conversation.\nThis is more than a lunch\, it’s an opportunity to stay informed\, ask questions\, and be part of the conversation shaping Punta Gorda’s future. Seats fill quickly\, so don’t miss your chance to connect\, engage\, and get the inside scoop on what’s planned for our city.\nPunta Gorda Isles Civic Association | 2001 Shreve St. Punta Gorda\, Fl 33950April 15\, 12:00p – 1:30p
URL:https://www.thewyvernhotel.com/event/networking-luncheon-state-of-the-city/
LOCATION:Punta Gorda Isles Civic Association\, 2001 Shreve St\, Punta Gorda\, 33950
CATEGORIES:Events in Punta Gorda,Luncheons
ATTACH;FMTTYPE=image/png:https://www.thewyvernhotel.com/wp-content/uploads/2026/02/Networking-Lunch-tl21xI.png
END:VEVENT
BEGIN:VEVENT
DTSTART;TZID=America/New_York:20260415T180000
DTEND;TZID=America/New_York:20260415T210000
DTSTAMP:20260422T050532
CREATED:20260331T172406Z
LAST-MODIFIED:20260331T172406Z
UID:10000088-1776276000-1776286800@www.thewyvernhotel.com
SUMMARY:Jimi Pappas -Live at Perch360
DESCRIPTION:
URL:https://www.thewyvernhotel.com/event/jimi-pappas-live-at-perch360/
LOCATION:FL
CATEGORIES:Live Music
END:VEVENT
END:VCALENDAR