BEGIN:VCALENDAR
VERSION:2.0
PRODID:-//Punta Gorda Hotels | The Wyvern Luxury Hotel | Florida - ECPv6.15.20//NONSGML v1.0//EN
CALSCALE:GREGORIAN
METHOD:PUBLISH
X-WR-CALNAME:Punta Gorda Hotels | The Wyvern Luxury Hotel | Florida
X-ORIGINAL-URL:https://www.thewyvernhotel.com
X-WR-CALDESC:Events for Punta Gorda Hotels | The Wyvern Luxury Hotel | Florida
REFRESH-INTERVAL;VALUE=DURATION:PT1H
X-Robots-Tag:noindex
X-PUBLISHED-TTL:PT1H
BEGIN:VTIMEZONE
TZID:America/New_York
BEGIN:DAYLIGHT
TZOFFSETFROM:-0500
TZOFFSETTO:-0400
TZNAME:EDT
DTSTART:20250309T070000
END:DAYLIGHT
BEGIN:STANDARD
TZOFFSETFROM:-0400
TZOFFSETTO:-0500
TZNAME:EST
DTSTART:20251102T060000
END:STANDARD
BEGIN:DAYLIGHT
TZOFFSETFROM:-0500
TZOFFSETTO:-0400
TZNAME:EDT
DTSTART:20260308T070000
END:DAYLIGHT
BEGIN:STANDARD
TZOFFSETFROM:-0400
TZOFFSETTO:-0500
TZNAME:EST
DTSTART:20261101T060000
END:STANDARD
BEGIN:DAYLIGHT
TZOFFSETFROM:-0500
TZOFFSETTO:-0400
TZNAME:EDT
DTSTART:20270314T070000
END:DAYLIGHT
BEGIN:STANDARD
TZOFFSETFROM:-0400
TZOFFSETTO:-0500
TZNAME:EST
DTSTART:20271107T060000
END:STANDARD
END:VTIMEZONE
BEGIN:VEVENT
DTSTART;TZID=America/New_York:20260414T170000
DTEND;TZID=America/New_York:20260414T180000
DTSTAMP:20260422T050721
CREATED:20260323T174010Z
LAST-MODIFIED:20260323T174010Z
UID:10000074-1776186000-1776189600@www.thewyvernhotel.com
SUMMARY:Ribbon Cutting: Discount Restaurant Equipment & Supplies
DESCRIPTION:Ribbon Cutting: Discount Restaurant Equipment & Supply LLC \nApril 14 @ 5:00pm – 6:00 pm\, cut at 5:30\nDiscount Restaurant Equipment & Supply LLC\n6469 Florida St.Punta Gorda\, FL 33950\nCome celebrate\, connect\, and cut the ribbon with us! Join the Punta Gorda Chamber as we welcome one of our newest businesses to the community. Enjoy a food truck\, refreshing beverages\, and a great chance to meet the people behind the business and learn how they’re making an impact locally. It’s casual\, fun\, and a great way to support local…don’t miss it!
URL:https://www.thewyvernhotel.com/event/ribbon-cutting-discount-restaurant-equipment-supplies/
LOCATION:Discount Restaurant Equipment & Supply LLC \, 6469 Florida St\, Punta Gorda\, FL\, United States
CATEGORIES:Events in Punta Gorda,Ribbon Cutting
ATTACH;FMTTYPE=image/png:https://www.thewyvernhotel.com/wp-content/uploads/2026/02/Grand-Opening-6-ZglPZV.png
GEO:26.934472;-82.022061
X-APPLE-STRUCTURED-LOCATION;VALUE=URI;X-ADDRESS=Discount Restaurant Equipment & Supply LLC  6469 Florida St Punta Gorda FL United States;X-APPLE-RADIUS=500;X-TITLE=6469 Florida St:geo:-82.022061,26.934472
END:VEVENT
BEGIN:VEVENT
DTSTART;TZID=America/New_York:20260414T170000
DTEND;TZID=America/New_York:20260414T180000
DTSTAMP:20260422T050721
CREATED:20260325T174011Z
LAST-MODIFIED:20260328T174009Z
UID:10000076-1776186000-1776189600@www.thewyvernhotel.com
SUMMARY:Ribbon Cutting: Discount Restaurant Equipment & Supply LLC 
DESCRIPTION:Ribbon Cutting: Discount Restaurant Equipment & Supply LLC \nApril 14 @ 5:00pm – 6:00 pm\, cut at 5:30\nDiscount Restaurant Equipment & Supply LLC\n6469 Florida St.Punta Gorda\, FL 33950\nCome celebrate\, connect\, and cut the ribbon with us! Join the Punta Gorda Chamber as we welcome one of our newest businesses to the community. Enjoy a food truck\, refreshing beverages\, and a great chance to meet the people behind the business and learn how they’re making an impact locally. It’s casual\, fun\, and a great way to support local…don’t miss it!
URL:https://www.thewyvernhotel.com/event/ribbon-cutting-discount-restaurant-equipment-supply-llc/
LOCATION:Discount Restaurant Equipment & Supply LLC \, 6469 Florida St\, Punta Gorda\, FL\, United States
CATEGORIES:Events in Punta Gorda,Ribbon Cutting
ATTACH;FMTTYPE=image/png:https://www.thewyvernhotel.com/wp-content/uploads/2026/02/Grand-Opening-5-P9gTvy.png
GEO:26.934472;-82.022061
X-APPLE-STRUCTURED-LOCATION;VALUE=URI;X-ADDRESS=Discount Restaurant Equipment & Supply LLC  6469 Florida St Punta Gorda FL United States;X-APPLE-RADIUS=500;X-TITLE=6469 Florida St:geo:-82.022061,26.934472
END:VEVENT
BEGIN:VEVENT
DTSTART;TZID=America/New_York:20260414T170000
DTEND;TZID=America/New_York:20260414T180000
DTSTAMP:20260422T050721
CREATED:20260331T174008Z
LAST-MODIFIED:20260413T174009Z
UID:10000099-1776186000-1776189600@www.thewyvernhotel.com
SUMMARY:Ribbon Cutting: Discount Restaurant Equipment & Supply LLC
DESCRIPTION:Ribbon Cutting: Discount Restaurant Equipment & Supply LLC \nApril 14 @ 5:00pm – 6:00 pm\, cut at 5:30\nDiscount Restaurant Equipment & Supply LLC\nCome celebrate\, connect\, and cut the ribbon with us! Join the Punta Gorda Chamber as we welcome one of our newest businesses to the community. Enjoy a food truck\, refreshing beverages\, and a great chance to meet the people behind the business and learn how they’re making an impact locally. It’s casual\, fun\, and a great way to support local…don’t miss it!\nFREE FOOD TRUCK FOOD AND DRINKS WILL BE PROVIDED!!!!!!
URL:https://www.thewyvernhotel.com/event/ribbon-cutting-discount-restaurant-equipment-supply-llc-2/
LOCATION:Discount Restaurant Equipment & Supply LLC \, 6469 Florida St\, Punta Gorda\, FL\, United States
CATEGORIES:Events in Punta Gorda,Ribbon Cutting
ATTACH;FMTTYPE=image/png:https://www.thewyvernhotel.com/wp-content/uploads/2026/02/Grand-Opening-5-P9gTvy.png
GEO:26.934472;-82.022061
X-APPLE-STRUCTURED-LOCATION;VALUE=URI;X-ADDRESS=Discount Restaurant Equipment & Supply LLC  6469 Florida St Punta Gorda FL United States;X-APPLE-RADIUS=500;X-TITLE=6469 Florida St:geo:-82.022061,26.934472
END:VEVENT
END:VCALENDAR